BEGIN:VCALENDAR
VERSION:2.0
PRODID:-//Sokol Lustenice//Fotbal Calendar//CS
CALSCALE:GREGORIAN
METHOD:PUBLISH
X-WR-CALNAME:Sokol Luštěnice – Muži A (doma)
X-WR-TIMEZONE:Europe/Prague
BEGIN:VEVENT
UID:match-69e671d5b418100e6d6d6a65@fotballustenice.cz
DTSTAMP:20260425T020153Z
DTSTART;TZID=Europe/Prague:20260425T170000
DTEND;TZID=Europe/Prague:20260425T190000
SUMMARY:Muži A: Sokol Luštěnice vs SK Roztoky
DESCRIPTION:7. liga sk. B\n21. kolo\nSokol Luštěnice - SK Roztoky\nDomácí zápas
LOCATION:Hřiště Sokol Luštěnice\, Luštěnice
STATUS:CONFIRMED
SEQUENCE:0
END:VEVENT
BEGIN:VEVENT
UID:match-69e671d5b418100e6d6d6a73@fotballustenice.cz
DTSTAMP:20260425T020153Z
DTSTART;TZID=Europe/Prague:20260509T170000
DTEND;TZID=Europe/Prague:20260509T190000
SUMMARY:Muži A: Sokol Luštěnice vs SK Rejšice
DESCRIPTION:7. liga sk. B\n23. kolo\nSokol Luštěnice - SK Rejšice\nDomácí zápas
LOCATION:Hřiště Sokol Luštěnice\, Luštěnice
STATUS:CONFIRMED
SEQUENCE:0
END:VEVENT
BEGIN:VEVENT
UID:match-69e671d5b418100e6d6d6a81@fotballustenice.cz
DTSTAMP:20260425T020153Z
DTSTART;TZID=Europe/Prague:20260523T170000
DTEND;TZID=Europe/Prague:20260523T190000
SUMMARY:Muži A: Sokol Luštěnice vs Vltavan Chvatěruby
DESCRIPTION:7. liga sk. B\n25. kolo\nSokol Luštěnice - Vltavan Chvatěruby\nDomácí zápas
LOCATION:Hřiště Sokol Luštěnice\, Luštěnice
STATUS:CONFIRMED
SEQUENCE:0
END:VEVENT
BEGIN:VEVENT
UID:match-69e671d5b418100e6d6d6a8e@fotballustenice.cz
DTSTAMP:20260425T020153Z
DTSTART;TZID=Europe/Prague:20260606T170000
DTEND;TZID=Europe/Prague:20260606T190000
SUMMARY:Muži A: Sokol Luštěnice vs TJ Sokol Pěčice
DESCRIPTION:7. liga sk. B\n14. kolo\nSokol Luštěnice - TJ Sokol Pěčice\nDomácí zápas
LOCATION:Hřiště Sokol Luštěnice\, Luštěnice
STATUS:CONFIRMED
SEQUENCE:0
END:VEVENT
END:VCALENDAR
