BEGIN:VCALENDAR
VERSION:2.0
PRODID:-//Sokol Lustenice//Fotbal Calendar//CS
CALSCALE:GREGORIAN
METHOD:PUBLISH
X-WR-CALNAME:AFK Milovice vs Sokol Luštěnice
X-WR-TIMEZONE:Europe/Prague
BEGIN:VEVENT
UID:match-69e671d5b418100e6d6d6a70@fotballustenice.cz
DTSTAMP:20260424T235347Z
DTSTART;TZID=Europe/Prague:20260503T170000
DTEND;TZID=Europe/Prague:20260503T190000
SUMMARY:Muži A: AFK Milovice vs Sokol Luštěnice
DESCRIPTION:7. liga sk. B\n22. kolo\nAFK Milovice - Sokol Luštěnice
STATUS:CONFIRMED
SEQUENCE:0
END:VEVENT
END:VCALENDAR
