BEGIN:VCALENDAR
VERSION:2.0
PRODID:-//Sokol Lustenice//Fotbal Calendar//CS
CALSCALE:GREGORIAN
METHOD:PUBLISH
X-WR-CALNAME:SK Bělá pod Bezdězem vs Sokol Luštěnice
X-WR-TIMEZONE:Europe/Prague
BEGIN:VEVENT
UID:match-69e671d5b418100e6d6d6a7d@fotballustenice.cz
DTSTAMP:20260424T235113Z
DTSTART;TZID=Europe/Prague:20260517T170000
DTEND;TZID=Europe/Prague:20260517T190000
SUMMARY:Muži A: SK Bělá pod Bezdězem vs Sokol Luštěnice
DESCRIPTION:7. liga sk. B\n24. kolo\nSK Bělá pod Bezdězem - Sokol Luštěnice
STATUS:CONFIRMED
SEQUENCE:0
END:VEVENT
END:VCALENDAR
