BEGIN:VCALENDAR
VERSION:2.0
PRODID:-//Sokol Lustenice//Fotbal Calendar//CS
CALSCALE:GREGORIAN
METHOD:PUBLISH
X-WR-CALNAME:FC Sporting Mladá Boleslav "B"/FK Dlouhá Lhota (SD) vs Sokol Luštěnice
X-WR-TIMEZONE:Europe/Prague
BEGIN:VEVENT
UID:match-69e671d5b418100e6d6d6b40@fotballustenice.cz
DTSTAMP:20260424T235248Z
DTSTART;TZID=Europe/Prague:20260425T100000
DTEND;TZID=Europe/Prague:20260425T120000
SUMMARY:Dorost U19: FC Sporting Mladá Boleslav "B"/FK Dlouhá Lhota (SD) vs Sokol Luštěnice
DESCRIPTION:6. liga - OP dorost U19\n19. kolo\nFC Sporting Mladá Boleslav "B"/FK Dlouhá Lhota (SD) - Sokol Luštěnice
STATUS:CONFIRMED
SEQUENCE:0
END:VEVENT
END:VCALENDAR
