BEGIN:VCALENDAR
VERSION:2.0
PRODID:-//Sokol Lustenice//Fotbal Calendar//CS
CALSCALE:GREGORIAN
METHOD:PUBLISH
X-WR-CALNAME:Sokol Luštěnice vs TJF Čechie Čejetice
X-WR-TIMEZONE:Europe/Prague
BEGIN:VEVENT
UID:match-69e671d5b418100e6d6d6b48@fotballustenice.cz
DTSTAMP:20260424T235230Z
DTSTART;TZID=Europe/Prague:20260503T100000
DTEND;TZID=Europe/Prague:20260503T120000
SUMMARY:Dorost U19: Sokol Luštěnice vs TJF Čechie Čejetice
DESCRIPTION:6. liga - OP dorost U19\n20. kolo\nSokol Luštěnice - TJF Čechie Čejetice\nDomácí zápas
LOCATION:Hřiště Sokol Luštěnice\, Luštěnice
STATUS:CONFIRMED
SEQUENCE:0
END:VEVENT
END:VCALENDAR
