BEGIN:VCALENDAR
VERSION:2.0
PRODID:-//Sokol Lustenice//Fotbal Calendar//CS
CALSCALE:GREGORIAN
METHOD:PUBLISH
X-WR-CALNAME:Sokol Luštěnice vs Sokol Březno/SK Židněves (SD)
X-WR-TIMEZONE:Europe/Prague
BEGIN:VEVENT
UID:match-69e671d5b418100e6d6d6b55@fotballustenice.cz
DTSTAMP:20260424T235406Z
DTSTART;TZID=Europe/Prague:20260517T100000
DTEND;TZID=Europe/Prague:20260517T120000
SUMMARY:Dorost U19: Sokol Luštěnice vs Sokol Březno/SK Židněves (SD)
DESCRIPTION:6. liga - OP dorost U19\n22. kolo\nSokol Luštěnice - Sokol Březno/SK Židněves (SD)\nDomácí zápas
LOCATION:Hřiště Sokol Luštěnice\, Luštěnice
STATUS:CONFIRMED
SEQUENCE:0
END:VEVENT
END:VCALENDAR
