BEGIN:VCALENDAR
VERSION:2.0
PRODID:-//Sokol Lustenice//Fotbal Calendar//CS
CALSCALE:GREGORIAN
METHOD:PUBLISH
X-WR-CALNAME:SLAVOJ Kropáčova Vrutice/TJ Byšice (SD) vs Sokol Luštěnice
X-WR-TIMEZONE:Europe/Prague
BEGIN:VEVENT
UID:match-69e671d5b418100e6d6d6b5c@fotballustenice.cz
DTSTAMP:20260424T235215Z
DTSTART;TZID=Europe/Prague:20260531T103000
DTEND;TZID=Europe/Prague:20260531T123000
SUMMARY:Dorost U19: SLAVOJ Kropáčova Vrutice/TJ Byšice (SD) vs Sokol Luštěnice
DESCRIPTION:6. liga - OP dorost U19\n13. kolo\nSLAVOJ Kropáčova Vrutice/TJ Byšice (SD) - Sokol Luštěnice
STATUS:CONFIRMED
SEQUENCE:0
END:VEVENT
END:VCALENDAR
